BEGIN:VCALENDAR
VERSION:2.0
PRODID:-//85.13.128.157//NONSGML kigkonsult.se iCalcreator 2.20//
CALSCALE:GREGORIAN
METHOD:PUBLISH
X-WR-TIMEZONE:UTC
BEGIN:VEVENT
UID:event133@RILREC - Das Label
DTSTAMP:20260423T144812Z
CATEGORIES:Briefbombe
DESCRIPTION:Bunt statt Braun Open Air\nCategory: Briefbombe\nLink: https://
 rilrec.de/index.php?option=com_jem&view=event&id=133:bunt-statt-braun-open
 -air\n
DTSTART;VALUE=DATE:20240914
DTEND;VALUE=DATE:20240915
LOCATION:Brauks (JFS Brakel)\, Dortmund
SUMMARY:Bunt statt Braun Open Air
URL:https://rilrec.de/index.php?option=com_jem&view=event&id=133:bunt-statt
 -braun-open-air
END:VEVENT
END:VCALENDAR