BEGIN:VCALENDAR
VERSION:2.0
PRODID:-//85.13.128.157//NONSGML kigkonsult.se iCalcreator 2.20//
CALSCALE:GREGORIAN
METHOD:PUBLISH
X-WR-TIMEZONE:UTC
BEGIN:VEVENT
UID:event238@RILREC - Das Label
DTSTAMP:20260424T051419Z
CATEGORIES:Fucking Angry
DESCRIPTION:Fucking Angry\nCategory: Fucking Angry\nLink: https://rilrec.de
 /index.php?option=com_jem&view=event&id=238:fucking-angry\n
DTSTART;VALUE=DATE:20240913
DTEND;VALUE=DATE:20240914
LOCATION:CCL\, Lille (FR)
SUMMARY:Fucking Angry
URL:https://rilrec.de/index.php?option=com_jem&view=event&id=238:fucking-an
 gry
END:VEVENT
END:VCALENDAR