BEGIN:VCALENDAR
VERSION:2.0
PRODID:-//85.13.128.157//NONSGML kigkonsult.se iCalcreator 2.20//
CALSCALE:GREGORIAN
METHOD:PUBLISH
X-WR-TIMEZONE:UTC
BEGIN:VEVENT
UID:event348@RILREC - Das Label
DTSTAMP:20260420T042945Z
CATEGORIES:Loser Youth
DESCRIPTION:Stuss am Fluss\nCategory: Loser Youth\nLink: https://rilrec.de/
 index.php?option=com_jem&view=event&id=348:stuss-am-fluss\n
DTSTART;VALUE=DATE:20250712
DTEND;VALUE=DATE:20250713
LOCATION:Chekov\, Cottbus
SUMMARY:Stuss am Fluss
URL:https://rilrec.de/index.php?option=com_jem&view=event&id=348:stuss-am-f
 luss
END:VEVENT
END:VCALENDAR