BEGIN:VCALENDAR
VERSION:2.0
PRODID:-//85.13.128.157//NONSGML kigkonsult.se iCalcreator 2.20//
CALSCALE:GREGORIAN
METHOD:PUBLISH
X-WR-TIMEZONE:UTC
BEGIN:VEVENT
UID:event368@RILREC - Das Label
DTSTAMP:20260422T091252Z
CATEGORIES:Fucking Angry
DESCRIPTION:Back to Future\nCategory: Fucking Angry\nLink: https://rilrec.d
 e/index.php?option=com_jem&view=event&id=368:back-to-future\n
DTSTART;VALUE=DATE:20250719
DTEND;VALUE=DATE:20250720
LOCATION:Glaubitz
SUMMARY:Back to Future
URL:https://rilrec.de/index.php?option=com_jem&view=event&id=368:back-to-fu
 ture
END:VEVENT
END:VCALENDAR