BEGIN:VCALENDAR
VERSION:2.0
PRODID:-//85.13.128.157//NONSGML kigkonsult.se iCalcreator 2.20//
CALSCALE:GREGORIAN
METHOD:PUBLISH
X-WR-TIMEZONE:UTC
BEGIN:VEVENT
UID:event438@RILREC - Das Label
DTSTAMP:20260420T091845Z
CATEGORIES:Theilen
DESCRIPTION:Theilen + Kaput Krauts\nCategory: Theilen\nLink: https://rilrec
 .de/index.php?option=com_jem&view=event&id=438:theilen-kaput-krauts\n
DTSTART;VALUE=DATE:20251004
DTEND;VALUE=DATE:20251005
LOCATION:Villa Wuller\, Trier\,Ausoniusstraße 2\,54292 Trier
SUMMARY:Theilen + Kaput Krauts
URL:https://rilrec.de/index.php?option=com_jem&view=event&id=438:theilen-ka
 put-krauts
END:VEVENT
END:VCALENDAR