BEGIN:VCALENDAR
VERSION:2.0
PRODID:-//85.13.128.157//NONSGML kigkonsult.se iCalcreator 2.20//
CALSCALE:GREGORIAN
METHOD:PUBLISH
X-WR-TIMEZONE:UTC
BEGIN:VEVENT
UID:event98@RILREC - Das Label
DTSTAMP:20260421T011218Z
CATEGORIES:Fucking Angry
DESCRIPTION:Fucking Angry\, Schimpfpflicht\nCategory: Fucking Angry\nLink: 
 https://rilrec.de/index.php?option=com_jem&view=event&id=98:f-cking-angry
 \n
DTSTART;VALUE=DATE:20240607
DTEND;VALUE=DATE:20240608
LOCATION:Schokoladen\, Berlin
SUMMARY:Fucking Angry\, Schimpfpflicht
URL:https://rilrec.de/index.php?option=com_jem&view=event&id=98:f-cking-ang
 ry
END:VEVENT
END:VCALENDAR